Workbook

Sheet MASTER FYE DOCUMENT
A1: Minnesota State
A2: Student Full Year Equivalent (FYE) FY2013-2029
A4: Institution | B4: Actual FY2013 | C4: Actual FY2014 | D4: Actual FY2015 | E4: Actual FY2016 | F4: Actual FY2017 | G4: Actual FY2018 | H4: Actual FY2019 | I4: Actual FY2020 | J4: Actual FY2021 | K4: Actual FY2022 | L4: Actual FY2023 | M4: Actual FY2024 | N4: Actual FY2025 | O4: Actual FY2026 | P4: Projected FY2027 (Oct 26) | Q4: Projected FY2028 (Oct 26) | R4: Projected FY2029 (Oct 26)
A5: Colleges
A6: Alexandria Technical & Community College | B6: 2324 | C6: 2170.4667 | D6: 2046.4933 | E6: 1992.82 | F6: 1943.71 | G6: 1924.73 | H6: 1782.54 | I6: 1729.08 | J6: 1689.7 | K6: 1695.6167 | L6: 1810.917 | M6: 1927.4 | N6: 2110.8233 | O6: 2352.38 | P6: 2363 | Q6: 2363 | R6: 2363
A7: Anoka Colleges | B7: =SUM(B8:B9) -> 7520 | C7: =SUM(C8:C9) -> 7213.4 | D7: =SUM(D8:D9) -> 7123.8 | E7: =SUM(E8:E9) -> 7070.7 | F7: =SUM(F8:F9) -> 6708.86 | G7: =SUM(G8:G9) -> 6809.3333 | H7: =H8+H9 -> 6591.84 | I7: =I8+I9 -> 6667.57 | J7: =J8+J9 -> 6312.7667 | K7: =SUM(K8:K9) -> 5860.9667 | L7: =SUM(L8:L9) -> 5698.1 | N7: =SUM(N8:N9) -> 6312.4
A8: Anoka Ramsey Community College | B8: 5918 | C8: 5683.5333 | D8: 5654.3667 | E8: 5683.37 | F8: 5408.73 | G8: 5478.6 | H8: 5322.07 | I8: 5322.07 | J8: 5100 | K8: 4617.2333 | L8: 4539.867 | M8: 4678.4333 | N8: 4895.0667 | O8: 5273.7667 | P8: 5327 | Q8: 5380 | R8: 5434
A9: Anoka Technical College | B9: 1602 | C9: 1529.8667 | D9: 1469.4333 | E9: 1387.33 | F9: 1300.13 | G9: 1330.7333 | H9: 1269.77 | I9: 1345.5 | J9: 1212.7667 | K9: 1243.7333 | L9: 1158.233 | M9: 1315.4 | N9: 1417.3333 | O9: 1519.4333 | P9: 1519 | Q9: 1534 | R9: 1549
A10: Central Lakes College | B10: 3371 | C10: 3206.3333 | D10: 2992.8667 | E10: 2710.23 | F10: 2612.17 | G10: 2562.2333 | H10: 2633.3 | I10: 2645.5 | J10: 2546.9333 | K10: 2464.2333 | L10: 2510.6 | M10: 2536.8667 | N10: 2758.7333 | O10: 2615.6 | P10: 2636 | Q10: 2632 | R10: 2632
A11: Century College | B11: 7393 | C11: 6954.7667 | D11: 6410.0333 | E11: 6203.67 | F11: 5978.1 | G11: 5982.8 | H11: 5984.2 | I11: 5910.37 | J11: 5557.9333 | K11: 5139.7 | L11: 5114 | M11: 5544.8333 | N11: 5709.0667 | O11: 5876.5333 | P11: 5830 | Q11: 5830 | R11: 5830
A12: Dakota County Technical College | B12: 2478 | C12: 2235.2333 | D12: 2069.0167 | E12: 2003.95 | F12: 1884.08 | G12: 1938.35 | H12: 1899.95 | I12: 1902.6 | J12: 1817.7667 | K12: 1845.0333 | L12: 1908.733 | M12: 1975.6 | N12: 2085.8833 | O12: 2138.9833 | P12: 2164 | Q12: 2186 | R12: 2208
A13: Fond du Lac Tribal and Community College | B13: 1301 | C13: 1251.3 | D13: 1223.1667 | E13: 1188.1 | F13: 1121.4 | G13: 1025.3 | H13: 989.13 | I13: 865.23 | J13: 785.7 | K13: 706.06667 | L13: 812.1333 | M13: 815.1 | N13: 896.53333 | O13: 928.73333 | P13: 925 | Q13: 925 | R13: 925
A14: Hennepin Technical College | B14: 4515 | C14: 4213.5667 | D14: 3926.5667 | E14: 3739.4 | F14: 3504.87 | G14: 3368.1 | H14: 3214.4 | I14: 2946.37 | J14: 2712.4667 | K14: 2625.0667 | L14: 2546.233 | M14: 2691.3 | N14: 3202.2333 | O14: 3497.4667 | P14: 3602 | Q14: 3602 | R14: 3602
A15: Inver Hills Community College | B15: 4049 | C15: 3944.3667 | D15: 3808.8667 | E15: 3550.37 | F15: 3263.43 | G15: 3017.7333 | H15: 2844.13 | I15: 2668.9 | J15: 2621.4 | K15: 2314.2 | L15: 2141.567 | M15: 2253 | N15: 2361.2667 | O15: 2409.2333 | P15: 2408 | Q15: 2432 | R15: 2456
A16: Lake Superior College | B16: 3768 | C16: 3602.8833 | D16: 3430.5167 | E16: 3292.27 | F16: 3159.55 | G16: 3146.4833 | H16: 3121.65 | I16: 3096.48 | J16: 2774.5833 | K16: 2551.1667 | L16: 2353 | M16: 2445 | N16: 2458.6673 | O16: 2513.7167 | P16: 2400 | Q16: 2420 | R16: 2420
A17: Minneapolis College | B17: 6726 | C17: 6484.4167 | D17: 6026.1667 | E17: 5657.8 | F17: 5073.95 | G17: 4792.4333 | H17: 4619.92 | I17: 4535.68 | J17: 4218.85 | K17: 3818.55 | L17: 3875.967 | M17: 4167.1 | N17: 4507.85 | O17: 4593.7167 | P17: 4578 | Q17: 4578 | R17: 4578
A18: Minnesota North College | B18: =SUM(B19:B23) -> 4208 | C18: =SUM(C19:C23) -> 4033.9667 | D18: =SUM(D19:D23) -> 3742.2 | E18: 3588.9 | F18: =SUM(F19:F23) -> 3586.07 | G18: =SUM(G19:G23) -> 3465.9333 | H18: =SUM(H19:H23) -> 3299.27 | I18: =SUM(I19:I23) -> 3084.94 | J18: =SUM(J19:J23) -> 2669.3 | K18: =SUM(K19:K23) -> 2635.1 | L18: 2448.367 | M18: 2459.4333 | N18: 2552.9667 | O18: 2585.5033 | P18: 2470 | Q18: 2480 | R18: 2480
A19: Hibbing Community College | B19: 1129 | C19: 1115 | D19: 1041.8667 | E19: 1014.27 | F19: 1040.7 | G19: 921.73333 | H19: 839.67 | I19: 805.87 | J19: 692.6 | K19: 662.7
A20: Itasca Community College | B20: 1028 | C20: 1015.8867 | D20: 974.54667 | E20: 931.08 | F20: 943.52 | G20: 938.10333 | H20: 871.04 | I20: 820.82 | J20: 739.96667 | K20: 702
A21: Mesabi Range College | B21: 1087 | C21: 1043 | D21: 896.53333 | E21: 872.63 | F21: 829.17 | G21: 797.03333 | H21: 810.13 | I21: 755.3 | J21: 651.63333 | K21: 647.23333
A22: Rainy River Community College | B22: 318 | C22: 266.71333 | D22: 277.52 | E22: 270.39 | F22: 244.31 | G22: 235.73 | H22: 215.76 | I22: 176.95 | J22: 152.4 | K22: 152.93333
A23: Vermilion Community College | B23: 646 | C23: 593.36667 | D23: 551.73333 | E23: 500.53 | F23: 528.37 | G23: 573.33333 | H23: 562.67 | I23: 526 | J23: 432.7 | K23: 470.23333
A25: Minnesota State College Southeast | B25: 1701 | C25: 1596.5333 | D25: 1454.4667 | E25: 1315.87 | F25: 1286.4 | G25: 1220.2333 | H25: 1144.8 | I25: 1157.33 | J25: 1109.5333 | K25: 1069.0333 | L25: 1099.167 | M25: 1220.7333 | N25: 1395.2 | O25: 1424.2333 | P25: 1426 | Q25: 1440 | R25: 1455
A26: Minnesota State Community and Technical College | B26: 4863 | C26: 4527.0333 | D26: 4398.0333 | E26: 4319.17 | F26: 4201.87 | G26: 4059.1 | H26: 3915.37 | I26: 3714.13 | J26: 3433 | K26: 3203.7667 | L26: 3170.5 | M26: 3211.1667 | N26: 3417.4667 | O26: 3557.4 | P26: 3660 | Q26: 3730 | R26: 3800
A27: Minnesota West Community & Technical College | B27: 2225 | C27: 2098.975 | D27: 1948.4333 | E27: 1858.35 | F27: 1895.26 | G27: 1916.825 | H27: 1964.92 | I27: 1974.71 | J27: 1837.25 | K27: 1888.875 | L27: 1917.533 | M27: 1998.7333 | N27: 2184.8167 | O27: 2268.9833 | P27: 2160 | Q27: 2220 | R27: 2220
A28: Normandale Community College | B28: 7048 | C28: 6740 | D28: 6799.0667 | E28: 6837.3 | F28: 6915.02 | G28: 6842.7333 | H28: 6808.9 | I28: 6775.97 | J28: 6564.7667 | K28: 6011.8333 | L28: 6082.767 | M28: 6481.3667 | N28: 7448.6667 | O28: 7907.9 | P28: 8205 | Q28: 8400 | R28: 8600
A29: North Hennepin Community College | B29: 4957 | C29: 4812.6 | D29: 4643.7 | E29: 4445.6 | F29: 4197.97 | G29: 4153.8333 | H29: 4040.67 | I29: 3830 | J29: 3563.1 | K29: 3089.1667 | L29: 2893.467 | M29: 3011.3 | N29: 3203.2333 | O29: 3259.9333 | P29: 3223 | Q29: 3310 | R29: 3300
A30: Northland Community & Technical College | B30: 2717 | C30: 2558.3033 | D30: 2299.43 | E30: 2220.21 | F30: 2226.52 | G30: 2101.2367 | H30: 2123.23 | I30: 1967.77 | J30: 1762.7083 | K30: 1563.2667 | L30: 1450.475 | M30: 1425.88 | N30: 1555.6333 | O30: 1747.58 | P30: 1847 | Q30: 1940 | R30: 1998
A31: Northwest Technical College | B31: 783 | C31: 723.22 | D31: 678.785 | E31: 647.72 | F31: 574.54 | G31: 557.93333 | H31: 588.49 | I31: 564.12 | J31: 508.13333 | K31: 511.8 | L31: 505.3 | M31: 602.34667 | N31: 673.62667 | O31: 726.05333 | P31: 765 | Q31: 778 | R31: 800
A32: Pine Technical & Community College | B32: 667 | C32: 702 | D32: 722.93333 | E32: 728.1 | F32: 741.53 | G32: 772.2 | H32: 819.57 | I32: 798.17 | J32: 735.03333 | K32: 764.83333 | L32: 815.2667 | M32: 832.2 | N32: 797.03333 | O32: 824.03333 | P32: 845 | Q32: 853 | R32: 870
A33: Ridgewater College | B33: 3288 | C33: 3077.2167 | D33: 2859.7833 | E33: 2737.08 | F33: 2754.42 | G33: 2619.3 | H33: 2490.27 | I33: 2483.53 | J33: 2356.3667 | K33: 2155.1667 | L33: 2139.933 | M33: 2081 | N33: 2289.9 | O33: 2467.3 | P33: 2504 | Q33: 2529 | R33: 2554
A34: Riverland Community College | B34: 2321 | C34: 2200.3667 | D34: 2077.6833 | E34: 1998.15 | F34: 2018.97 | G34: 2008.7333 | H34: 2065.92 | I34: 2163.62 | J34: 2098.3833 | K34: 1996.9833 | L34: 1977.55 | M34: 2082.15 | N34: 2251.4 | O34: 2404.65 | P34: 2350 | Q34: 2375 | R34: 2375
A35: Rochester Community and Technical College | B35: 4444 | C35: 4295.8 | D35: 4133.9667 | E35: 3948.43 | F35: 3682.47 | G35: 3548.4333 | H35: 3498.03 | I35: 3362.63 | J35: 3365.4 | K35: 3052.6333 | L35: 2981.467 | M35: 3119.9667 | N35: 3390.4 | O35: 3520.6 | P35: 3400 | Q35: 3415 | R35: 3415
A36: St. Cloud Technical and Community College | B36: 3493 | C36: 3483.31 | D36: 3462.2667 | E36: 3372.97 | F36: 3201.8 | G36: 3116.0333 | H36: 3131.27 | I36: 3065.42 | J36: 2819.0833 | K36: 2568.2667 | L36: 2464.35 | M36: 2574.4167 | N36: 2906.6667 | O36: 2976.9333 | P36: 3098 | Q36: 3113 | R36: 3128
... A38: South Central College | B38: 2726 | C38: 2590.1667 | D38: 2490 | E38: 2212.1 | F38: 2159.33 | G38: 2140.6667 | H38: 2137.9 | I38: 2095.47 | J38: 1928.6333 | K38: 1785.2333 | L38: 1834.667 | M38: 1860.3 | N38: 1955.0333 | O38: 1989.1333 | P38: 1990 | Q38: 2000 | R38: 2000
A39: Subtotal: Colleges | B39: =SUM(B6:B38)-B18-B7 -> 93664 | C39: =SUM(C6:C38)-C18-C7 -> 89541.392 | D39: =SUM(D6:D38)-D18-D7 -> 85409.875 | E39: =SUM(E6:E38)-E18-E7 -> 82185.19 | F39: =SUM(F6:F38)-F18-F7 -> 79328.82 | G39: =SUM(G6:G38)-G18-G7 -> 77647.592 | H39: =SUM(H6:H38)-H18-H7 -> 76219.1 | I39: =SUM(I6:I38)-I18-I7 -> 74260.32 | ... K39: =SUM(K6:K38)-K18-K7 -> 64710.458 | L39: =SUM(L6:L38)-L7 -> 63999.06 | M39: =SUM(M6:M38)-M7 -> 66708.827 | N39: =SUM(N6:N38)-N7 -> 72028.334 | O39: =SUM(O6:O38)-O7 -> 75250.133 | P39: =SUM(P6:P38)-P7 -> 75640 | Q39: =SUM(Q6:Q38)-Q7 -> 76489 | R39: =SUM(R6:R38)-R7 -> 77096
A40: Universities
A41: Akita Campus
A42: Bemidji State University | B42: 4347 | C42: 4296.1167 | D42: 4274.3167 | E42: 4294.97 | F42: 4337.58 | G42: 4318.75 | H42: 4214.33 | I42: 4066.52 | J42: 3756.8167 | K42: 3451.65 | L42: 3233.55 | M42: 3161.3667 | N42: 3321.6 | O42: 3302.7167 | P42: 3275 | Q42: 3275 | R42: 3300
A43: Metropolitan State University | B43: 6266 | C43: 6191.9083 | D43: 6051.7417 | E43: 6101.88 | F43: 6168.3 | G43: 6064.2 | H43: 5936.71 | I43: 5827.43 | J43: 5756.7333 | K43: 5282.9458 | L43: 4838.667 | M43: 4831.85 | N43: 5354.9833 | O43: 5772.775 | P43: 5607 | Q43: 5607 | R43: 5607
A44: Minnesota State University, Mankato | B44: 14194 | C44: 14180.067 | D44: 13861.2 | E44: 13752 | F44: 13657 | G44: 13455.733 | H44: 13256.4 | I44: 13202 | J44: 13421.033 | K44: 13067.683 | L44: 13051.75 | M44: 13149.4 | N44: 13520.833 | O44: 13784.583 | P44: 13000 | Q44: 13000 | R44: 13000
A45: Minnesota State University Moorhead | B45: 6167 | C45: 5987.3833 | D45: 5696.6833 | E45: 5315.55 | F45: 5377.5 | G45: 5297.1167 | H45: 5258.27 | I45: 5166 | J45: 4892.8167 | K45: 4495.0833 | L45: 4227.983 | M45: 4013.0333 | N45: 4026.1 | O45: 4206.8667 | P45: 4315 | Q45: 4348 | R45: 4381
A46: St. Cloud State University | B46: 13053 | C46: 12381.317 | D46: 11851.217 | E46: 11837.42 | F46: 11480.48 | G46: 11081.433 | H46: 10427.53 | I46: 9546.8 | J46: 8438.9 | K46: 7637.7833 | L46: 7227.633 | M46: 7214.4 | N46: 7056.45 | O46: 6781.1667 | P46: 6331 | Q46: 6015 | R46: 5714
A47: Southwest Minnesota State University | B47: 3769 | C47: 3678.95 | D47: 3679.0833 | E47: 3712.18 | F47: 3760.27 | G47: 3608.1 | H47: 3564.75 | I47: 3365.05 | J47: 3409.4833 | K47: 3365.6167 | L47: 3240.333 | M47: 3413.9167 | N47: 3846.0333 | O47: 4128.1417 | P47: 3765 | Q47: 3800 | R47: 3845
A48: Winona State University | B48: 8459 | C48: 8267.2333 | D48: 8149.2833 | E48: 7890.25 | F48: 7530.3 | G48: 7356.9333 | H48: 7216.48 | I48: 7049.32 | J48: 6610.15 | K48: 6022.5833 | L48: 5678.217 | M48: 5596.4333 | N48: 5637.0833 | O48: 5771.2167 | P48: 5945 | Q48: 5960 | R48: 6005
A49: Subtotal: Universities | B49: =SUM(B41:B48) -> 56255 | C49: =SUM(C41:C48) -> 54982.975 | D49: =SUM(D41:D48) -> 53563.525 | E49: =SUM(E41:E48) -> 52904.25 | F49: =SUM(F41:F48) -> 52311.43 | G49: =SUM(G41:G48) -> 51182.267 | H49: =SUM(H41:H48) -> 49874.47 | I49: =SUM(I41:I48) -> 48223.12 | ... R49: =SUM(R41:R48) -> 41852
A50: System Total | B50: =+B49+B39 -> 149919 | C50: =+C49+C39 -> 144524.37 | D50: =+D49+D39 -> 138973.4 | E50: =+E49+E39 -> 135089.44 | F50: =+F49+F39 -> 131640.25 | G50: =+G49+G39 -> 128829.86 | H50: =+H49+H39 -> 126093.57 | I50: =+I49+I39 -> 122483.44 | J50: =J49+J39 -> 115758.16 | K50: =K49+K39 -> 108033.8 | L50: =L49+L39 -> 105497.19 | M50: =M49+M39 -> 108089.23 | N50: =N49+N39 -> 114791.42 | O50: =O49+O39 -> 118997.6 | P50: =P49+P39 -> 117878 | Q50: =Q49+Q39 -> 118494 | R50: =R49+R39 -> 118948
A52: Change from Prior Year | B52: =(B50-#REF!)/#REF! -> #REF! | C52: =(C50-B50)/B50 -> -0.035983653 | D52: =(D50-C50)/C50 -> -0.038408517 | E52: =+(E50-D50)/D50 -> -0.027947507 | F52: =(F50-E50)/E50 -> -0.02553264 | G52: =(G50-F50)/F50 -> -0.021349031 | H52: =+(H50-G50)/G50 -> -0.02123955 | I52: =+(I50-H50)/H50 -> -0.028630564 | J52: =(J50-I50)/I50 -> -0.054907681 | K52: =(K50-J50)/J50 -> -0.066728378 | L52: =(L50-K50)/K50 -> -0.023479791 | M52: =(M50-L50)/L50 -> 0.024569693 | N52: =(N50-M50)/M50 -> 0.062006093 | O52: =(O50-N50)/N50 -> 0.036641961 | P52: =(P50-O50)/O50 -> -0.0094085931 | Q52: =(Q50-P50)/P50 -> 0.0052257419 | R52: =(R50-Q50)/Q50 -> 0.0038314176
A53: Minnesota State Finance Division - FP&A
A54: 46267
M55: College | N55: =(N39-M39)/M39 -> 0.079742181 | O55: =(O39-N39)/N39 -> 0.044729611
M56: University | N56: =(N49-M49)/M49 -> 0.033413967 | O56: =(O49-N49)/N49 -> 0.023019466

Sheet SPC FYE Comparison
A1: Saint Paul College Actual FYE vs. Subtotal Colleges
A2: Actual fiscal years only | Indexed chart uses FY2003 = 100 for comparable trend analysis
A4: Fiscal Year | B4: Saint Paul Actual FYE | C4: Subtotal Colleges Actual FYE | D4: Saint Paul YoY | E4: Colleges YoY | F4: Saint Paul Share | G4: Saint Paul Index | H4: Colleges Index
A5: FY2003 | B5: ='MASTER FYE DOCUMENT'!#REF! -> #REF! | C5: ='MASTER FYE DOCUMENT'!#REF! -> #REF! | F5: =IFERROR(B5/C5,"") | G5: =IFERROR(B5/$B$5*100,"") | H5: =IFERROR(C5/$C$5*100,"")
A6: FY2004 | B6: ='MASTER FYE DOCUMENT'!#REF! -> #REF! | C6: ='MASTER FYE DOCUMENT'!#REF! -> #REF! | D6: =IFERROR(B6/B5-1,"") | E6: =IFERROR(C6/C5-1,"") | F6: =IFERROR(B6/C6,"") | G6: =IFERROR(B6/$B$5*100,"") | H6: =IFERROR(C6/$C$5*100,"")
A7: FY2005 | B7: ='MASTER FYE DOCUMENT'!#REF! -> #REF! | C7: ='MASTER FYE DOCUMENT'!#REF! -> #REF! | D7: =IFERROR(B7/B6-1,"") | E7: =IFERROR(C7/C6-1,"") | F7: =IFERROR(B7/C7,"") | G7: =IFERROR(B7/$B$5*100,"") | H7: =IFERROR(C7/$C$5*100,"")
A8: FY2006 | B8: ='MASTER FYE DOCUMENT'!#REF! -> #REF! | C8: ='MASTER FYE DOCUMENT'!#REF! -> #REF! | D8: =IFERROR(B8/B7-1,"") | E8: =IFERROR(C8/C7-1,"") | F8: =IFERROR(B8/C8,"") | G8: =IFERROR(B8/$B$5*100,"") | H8: =IFERROR(C8/$C$5*100,"")
A9: FY2007 | B9: ='MASTER FYE DOCUMENT'!#REF! -> #REF! | C9: ='MASTER FYE DOCUMENT'!#REF! -> #REF! | D9: =IFERROR(B9/B8-1,"") | E9: =IFERROR(C9/C8-1,"") | F9: =IFERROR(B9/C9,"") | G9: =IFERROR(B9/$B$5*100,"") | H9: =IFERROR(C9/$C$5*100,"")
A10: FY2008 | B10: ='MASTER FYE DOCUMENT'!#REF! -> #REF! | C10: ='MASTER FYE DOCUMENT'!#REF! -> #REF! | D10: =IFERROR(B10/B9-1,"") | E10: =IFERROR(C10/C9-1,"") | F10: =IFERROR(B10/C10,"") | G10: =IFERROR(B10/$B$5*100,"") | H10: =IFERROR(C10/$C$5*100,"")
A11: FY2009 | B11: ='MASTER FYE DOCUMENT'!#REF! -> #REF! | C11: ='MASTER FYE DOCUMENT'!#REF! -> #REF! | D11: =IFERROR(B11/B10-1,"") | E11: =IFERROR(C11/C10-1,"") | F11: =IFERROR(B11/C11,"") | G11: =IFERROR(B11/$B$5*100,"") | H11: =IFERROR(C11/$C$5*100,"")
A12: FY2010 | B12: ='MASTER FYE DOCUMENT'!#REF! -> #REF! | C12: ='MASTER FYE DOCUMENT'!#REF! -> #REF! | D12: =IFERROR(B12/B11-1,"") | E12: =IFERROR(C12/C11-1,"") | F12: =IFERROR(B12/C12,"") | G12: =IFERROR(B12/$B$5*100,"") | H12: =IFERROR(C12/$C$5*100,"")
A13: FY2011 | B13: ='MASTER FYE DOCUMENT'!#REF! -> #REF! | C13: ='MASTER FYE DOCUMENT'!#REF! -> #REF! | D13: =IFERROR(B13/B12-1,"") | E13: =IFERROR(C13/C12-1,"") | F13: =IFERROR(B13/C13,"") | G13: =IFERROR(B13/$B$5*100,"") | H13: =IFERROR(C13/$C$5*100,"")
A14: FY2012 | B14: ='MASTER FYE DOCUMENT'!#REF! -> #REF! | C14: ='MASTER FYE DOCUMENT'!#REF! -> #REF! | D14: =IFERROR(B14/B13-1,"") | E14: =IFERROR(C14/C13-1,"") | F14: =IFERROR(B14/C14,"") | G14: =IFERROR(B14/$B$5*100,"") | H14: =IFERROR(C14/$C$5*100,"")
A15: FY2013 | B15: ='MASTER FYE DOCUMENT'!B37 -> 4778 | C15: ='MASTER FYE DOCUMENT'!B39 -> 93664 | D15: =IFERROR(B15/B14-1,"") | E15: =IFERROR(C15/C14-1,"") | F15: =IFERROR(B15/C15,"") -> 0.051012128 | G15: =IFERROR(B15/$B$5*100,"") | H15: =IFERROR(C15/$C$5*100,"")
A16: FY2014 | B16: ='MASTER FYE DOCUMENT'!C37 -> 4825.1667 | C16: ='MASTER FYE DOCUMENT'!C39 -> 89541.392 | D16: =IFERROR(B16/B15-1,"") -> 0.0098716339 | E16: =IFERROR(C16/C15-1,"") -> -0.044014865 | F16: =IFERROR(B16/C16,"") -> 0.053887555 | G16: =IFERROR(B16/$B$5*100,"") | H16: =IFERROR(C16/$C$5*100,"")
A17: FY2015 | B17: ='MASTER FYE DOCUMENT'!D37 -> 4641.6333 | C17: ='MASTER FYE DOCUMENT'!D39 -> 85409.875 | D17: =IFERROR(B17/B16-1,"") -> -0.038036683 | E17: =IFERROR(C17/C16-1,"") -> -0.046140858 | F17: =IFERROR(B17/C17,"") -> 0.054345394 | G17: =IFERROR(B17/$B$5*100,"") | H17: =IFERROR(C17/$C$5*100,"")
A18: FY2016 | B18: ='MASTER FYE DOCUMENT'!E37 -> 4545.93 | C18: ='MASTER FYE DOCUMENT'!E39 -> 82185.19 | D18: =IFERROR(B18/B17-1,"") -> -0.02061846 | E18: =IFERROR(C18/C17-1,"") -> -0.037755412 | F18: =IFERROR(B18/C18,"") -> 0.05531325 | G18: =IFERROR(B18/$B$5*100,"") | H18: =IFERROR(C18/$C$5*100,"")
A19: FY2017 | B19: ='MASTER FYE DOCUMENT'!F37 -> 4636.53 | C19: ='MASTER FYE DOCUMENT'!F39 -> 79328.82 | D19: =IFERROR(B19/B18-1,"") -> 0.019929915 | E19: =IFERROR(C19/C18-1,"") -> -0.034755289 | F19: =IFERROR(B19/C19,"") -> 0.058446981 | G19: =IFERROR(B19/$B$5*100,"") | H19: =IFERROR(C19/$C$5*100,"")
A20: FY2018 | B20: ='MASTER FYE DOCUMENT'!G37 -> 4556.9 | C20: ='MASTER FYE DOCUMENT'!G39 -> 77647.592 | D20: =IFERROR(B20/B19-1,"") -> -0.017174482 | E20: =IFERROR(C20/C19-1,"") -> -0.02119316 | F20: =IFERROR(B20/C20,"") -> 0.058686946 | G20: =IFERROR(B20/$B$5*100,"") | H20: =IFERROR(C20/$C$5*100,"")
A21: FY2019 | B21: ='MASTER FYE DOCUMENT'!H37 -> 4509.43 | C21: ='MASTER FYE DOCUMENT'!H39 -> 76219.1 | D21: =IFERROR(B21/B20-1,"") -> -0.01041717 | E21: =IFERROR(C21/C20-1,"") -> -0.018397114 | F21: =IFERROR(B21/C21,"") -> 0.059164042 | G21: =IFERROR(B21/$B$5*100,"") | H21: =IFERROR(C21/$C$5*100,"")
A22: FY2020 | B22: ='MASTER FYE DOCUMENT'!I37 -> 4254.73 | C22: ='MASTER FYE DOCUMENT'!I39 -> 74260.32 | D22: =IFERROR(B22/B21-1,"") -> -0.05648164 | E22: =IFERROR(C22/C21-1,"") -> -0.025699333 | F22: =IFERROR(B22/C22,"") -> 0.057294798 | G22: =IFERROR(B22/$B$5*100,"") | H22: =IFERROR(C22/$C$5*100,"")
A23: FY2021 | B23: ='MASTER FYE DOCUMENT'!J37 -> 3683.4333 | C23: ='MASTER FYE DOCUMENT'!J39 -> 69472.225 | D23: =IFERROR(B23/B22-1,"") -> -0.13427331 | E23: =IFERROR(C23/C22-1,"") -> -0.064477166 | F23: =IFERROR(B23/C23,"") -> 0.05302023 | G23: =IFERROR(B23/$B$5*100,"") | H23: =IFERROR(C23/$C$5*100,"")
A24: FY2022 | B24: ='MASTER FYE DOCUMENT'!K37 -> 3393.9 | C24: ='MASTER FYE DOCUMENT'!K39 -> 64710.458 | D24: =IFERROR(B24/B23-1,"") -> -0.078604201 | E24: =IFERROR(C24/C23-1,"") -> -0.06854202 | F24: =IFERROR(B24/C24,"") -> 0.052447473 | G24: =IFERROR(B24/$B$5*100,"") | H24: =IFERROR(C24/$C$5*100,"")
A25: FY2023 | B25: ='MASTER FYE DOCUMENT'!L37 -> 3447 | C25: ='MASTER FYE DOCUMENT'!L39 -> 63999.06 | D25: =IFERROR(B25/B24-1,"") -> 0.015645717 | E25: =IFERROR(C25/C24-1,"") -> -0.01099356 | F25: =IFERROR(B25/C25,"") -> 0.053860166 | G25: =IFERROR(B25/$B$5*100,"") | H25: =IFERROR(C25/$C$5*100,"")
A26: FY2024 | B26: ='MASTER FYE DOCUMENT'!M37 -> 3397.8 | C26: ='MASTER FYE DOCUMENT'!M39 -> 66708.827 | D26: =IFERROR(B26/B25-1,"") -> -0.014273281 | E26: =IFERROR(C26/C25-1,"") -> 0.042340726 | F26: =IFERROR(B26/C26,"") -> 0.050934789 | G26: =IFERROR(B26/$B$5*100,"") | H26: =IFERROR(C26/$C$5*100,"")
A27: FY2025 | B27: ='MASTER FYE DOCUMENT'!N37 -> 3602.8333 | C27: ='MASTER FYE DOCUMENT'!N39 -> 72028.334 | D27: =IFERROR(B27/B26-1,"") -> 0.060342967 | E27: =IFERROR(C27/C26-1,"") -> 0.079742181 | F27: =IFERROR(B27/C27,"") -> 0.050019668 | G27: =IFERROR(B27/$B$5*100,"") | H27: =IFERROR(C27/$C$5*100,"")
A28: FY2026 | B28: ='MASTER FYE DOCUMENT'!O37 -> 3870.3333 | C28: ='MASTER FYE DOCUMENT'!O39 -> 75250.133 | D28: =IFERROR(B28/B27-1,"") -> 0.07424712 | E28: =IFERROR(C28/C27-1,"") -> 0.044729611 | F28: =IFERROR(B28/C28,"") -> 0.05143291 | G28: =IFERROR(B28/$B$5*100,"") | H28: =IFERROR(C28/$C$5*100,"")
A31: Key Findings
A32: Metric | B32: Result | D32: Period | E32: Saint Paul Change | F32: Colleges Change | G32: Difference | H32: Interpretation
A33: Latest Saint Paul FYE | B33: =B28 -> 3870.3333 | D33: FY2003–FY2014 | E33: =B16/B5-1 -> #REF! | F33: =C16/C5-1 -> #REF! | G33: =E33-F33 -> #REF! | H33: Pre-peak growth
A34: FY2003–FY2026 change | B34: =B28/B5-1 -> #REF! | D34: FY2014–FY2022 | E34: =B24/B16-1 -> -0.29662533 | F34: =C24/C16-1 -> -0.27731235 | G34: =E34-F34 -> -0.019312987 | H34: Contraction period
A35: FY2026 share of colleges | B35: =F28 -> 0.05143291 | D35: FY2022–FY2026 | E35: =B28/B24-1 -> 0.14037931 | F35: =C28/C24-1 -> 0.16287437 | G35: =E35-F35 -> -0.02249506 | H35: Recent recovery
